BEGIN:VCALENDAR
VERSION:2.0
PRODID:-//www.gramonet.cz//GramonetCalLib 1.0//EN
CALSCALE:GREGORIAN
METHOD:PUBLISH
BEGIN:VEVENT
SUMMARY:Divadlo a pohádka na Lichnici
LOCATION:Zřícenina hradu Lichnice
DTSTART:20240703T000000
DTEND:20240704T000000
UID:2026-04-19-19-36-04@infocaslav.cz
DTSTAMP:20260419T173604
Description:Dne 3.7. od 14:00 hodin Vám Válkovo kočovné divadlo Praha z
 ahraje Čertovskou pohádku. \nOd 16:00 hodin se můžete dále těšit na
  hru Střípky národního poblouznění.
END:VEVENT
END:VCALENDAR
