BEGIN:VCALENDAR
VERSION:2.0
PRODID:-//www.gramonet.cz//GramonetCalLib 1.0//EN
CALSCALE:GREGORIAN
METHOD:PUBLISH
BEGIN:VEVENT
SUMMARY:Divadlo - Čert a Káča
LOCATION:Dusíkovo divadlo
DTSTART:20240324T000000
DTEND:20240325T000000
UID:2026-04-19-21-03-27@infocaslav.cz
DTSTAMP:20260419T190327
Description:
END:VEVENT
END:VCALENDAR
