BEGIN:VCALENDAR
VERSION:2.0
PRODID:-//www.gramonet.cz//GramonetCalLib 1.0//EN
CALSCALE:GREGORIAN
METHOD:PUBLISH
BEGIN:VEVENT
SUMMARY:Divadlo - Klíče na neděli
LOCATION:Dusíkovo divadlo
DTSTART:20240212T000000
DTEND:20240213T000000
UID:2026-04-19-19-31-27@infocaslav.cz
DTSTAMP:20260419T173127
Description:
END:VEVENT
END:VCALENDAR
