BEGIN:VCALENDAR
VERSION:2.0
PRODID:-//www.gramonet.cz//GramonetCalLib 1.0//EN
CALSCALE:GREGORIAN
METHOD:PUBLISH
BEGIN:VEVENT
SUMMARY:Divadlo - Všechny báječný věci
LOCATION:Dusíkovo divadlo
DTSTART:20240316T000000
DTEND:20240317T000000
UID:2026-04-19-19-35-16@infocaslav.cz
DTSTAMP:20260419T173516
Description:
END:VEVENT
END:VCALENDAR
