BEGIN:VCALENDAR
VERSION:2.0
PRODID:-//www.gramonet.cz//GramonetCalLib 1.0//EN
CALSCALE:GREGORIAN
METHOD:PUBLISH
BEGIN:VEVENT
SUMMARY:Divadlo - Zvířátka a loupežníci
LOCATION:Dusíkovo divadlo
DTSTART:20240121T000000
DTEND:20240122T000000
UID:2026-04-19-19-35-50@infocaslav.cz
DTSTAMP:20260419T173550
Description:
END:VEVENT
END:VCALENDAR
