BEGIN:VCALENDAR
VERSION:2.0
PRODID:-//www.gramonet.cz//GramonetCalLib 1.0//EN
CALSCALE:GREGORIAN
METHOD:PUBLISH
BEGIN:VEVENT
SUMMARY:Dívčí Valentýnská pohádková noc
LOCATION:Dům dětí a mládeže Čáslav, Jeníkovská 222
DTSTART:20220205T000000
DTEND:20220207T000000
UID:2026-04-19-19-36-07@infocaslav.cz
DTSTAMP:20260419T173607
Description:
END:VEVENT
END:VCALENDAR
