BEGIN:VCALENDAR
VERSION:2.0
PRODID:-//www.gramonet.cz//GramonetCalLib 1.0//EN
CALSCALE:GREGORIAN
METHOD:PUBLISH
BEGIN:VEVENT
SUMMARY:Dívka s loutnou
LOCATION:Dusíkovo divadlo Čáslav
DTSTART:20241024T000000
DTEND:20241025T000000
UID:2026-04-19-19-31-22@infocaslav.cz
DTSTAMP:20260419T173122
Description:Dusíkovo divadlo Vás zve na hru Dívka s loutnou ve čtvrtek 
 24. října do 19:00.
END:VEVENT
END:VCALENDAR
