BEGIN:VCALENDAR
VERSION:2.0
PRODID:-//www.gramonet.cz//GramonetCalLib 1.0//EN
CALSCALE:GREGORIAN
METHOD:PUBLISH
BEGIN:VEVENT
SUMMARY:DJ Roxtar
LOCATION:Rockový dvůr Čáslav, Žacká 1783
DTSTART:20250906T000000
DTEND:20250907T000000
UID:2026-04-19-19-26-24@infocaslav.cz
DTSTAMP:20260419T172624
Description:
END:VEVENT
END:VCALENDAR
