BEGIN:VCALENDAR
VERSION:2.0
PRODID:-//www.gramonet.cz//GramonetCalLib 1.0//EN
CALSCALE:GREGORIAN
METHOD:PUBLISH
BEGIN:VEVENT
SUMMARY:DlouhÃ½, Å¡irokÃ½ a bystrozrakÃ½
LOCATION:DusÃ­kovo divadlo ÄŒÃ¡slav
DTSTART:20241013T000000
DTEND:20241014T000000
UID:2026-04-19-19-34-32@infocaslav.cz
DTSTAMP:20260419T173432
Description:DusÃ­kovo divadlo v ÄŒÃ¡slavi VÃ¡s zve na hru DlouhÃ½\, Å¡irokÃ
 ½ a bystrozrakÃ½\, 13.10. 2024 od 15:00 hod.
END:VEVENT
END:VCALENDAR
