BEGIN:VCALENDAR
VERSION:2.0
PRODID:-//www.gramonet.cz//GramonetCalLib 1.0//EN
CALSCALE:GREGORIAN
METHOD:PUBLISH
BEGIN:VEVENT
SUMMARY:Den otevřených dvěří
LOCATION:MŠ Čáslav
DTSTART:20230426T000000
DTEND:20230427T000000
UID:2026-04-19-19-33-29@infocaslav.cz
DTSTAMP:20260419T173329
Description:
END:VEVENT
END:VCALENDAR
