BEGIN:VCALENDAR
VERSION:2.0
PRODID:-//www.gramonet.cz//GramonetCalLib 1.0//EN
CALSCALE:GREGORIAN
METHOD:PUBLISH
BEGIN:VEVENT
SUMMARY:Dny architektury
LOCATION:Synagoga, Sokolovna, Divadlo
DTSTART:20231001T000000
DTEND:20231002T000000
UID:2026-04-19-19-30-59@infocaslav.cz
DTSTAMP:20260419T173059
Description:Synagoga v plné kráse 14:00. Objev konstrukce 16:00-17:30 př
 ed sokolovnou
END:VEVENT
END:VCALENDAR
