BEGIN:VCALENDAR
VERSION:2.0
PRODID:-//www.gramonet.cz//GramonetCalLib 1.0//EN
CALSCALE:GREGORIAN
METHOD:PUBLISH
BEGIN:VEVENT
SUMMARY:Dny evropského kulturního dědictví
LOCATION:Městské muzeum
DTSTART:20230916T000000
DTEND:20230917T000000
UID:2026-04-19-19-33-54@infocaslav.cz
DTSTAMP:20260419T173354
Description:
END:VEVENT
END:VCALENDAR
