BEGIN:VCALENDAR
VERSION:2.0
PRODID:-//www.gramonet.cz//GramonetCalLib 1.0//EN
CALSCALE:GREGORIAN
METHOD:PUBLISH
BEGIN:VEVENT
SUMMARY:Dny evropského dědictví
LOCATION:Městské muzeum Čáslav, Husova 291/3, 28601
DTSTART:20250914T000000
DTEND:20250915T000000
UID:2026-04-19-20-58-38@infocaslav.cz
DTSTAMP:20260419T185838
Description:
END:VEVENT
END:VCALENDAR
