BEGIN:VCALENDAR
VERSION:2.0
PRODID:-//www.gramonet.cz//GramonetCalLib 1.0//EN
CALSCALE:GREGORIAN
METHOD:PUBLISH
BEGIN:VEVENT
SUMMARY:Dny v gumárně
LOCATION:Gumárna, K. Pazderského 2045
DTSTART:20220525T000000
DTEND:20220526T000000
UID:2026-04-19-19-29-59@infocaslav.cz
DTSTAMP:20260419T172959
Description:
END:VEVENT
END:VCALENDAR
