BEGIN:VCALENDAR
VERSION:2.0
PRODID:-//www.gramonet.cz//GramonetCalLib 1.0//EN
CALSCALE:GREGORIAN
METHOD:PUBLISH
BEGIN:VEVENT
SUMMARY:Dny v gumárně
LOCATION:Gumárna, K. Pazderského 2045
DTSTART:20220626T000000
DTEND:20220627T000000
UID:2026-04-19-21-02-29@infocaslav.cz
DTSTAMP:20260419T190229
Description:
END:VEVENT
END:VCALENDAR
