BEGIN:VCALENDAR
VERSION:2.0
PRODID:-//www.gramonet.cz//GramonetCalLib 1.0//EN
CALSCALE:GREGORIAN
METHOD:PUBLISH
BEGIN:VEVENT
SUMMARY:Do/kořán
LOCATION:Výstavní síň
DTSTART:20231029T000000
DTEND:20231120T000000
UID:2026-04-19-21-02-15@infocaslav.cz
DTSTAMP:20260419T190215
Description:
END:VEVENT
END:VCALENDAR
