BEGIN:VCALENDAR
VERSION:2.0
PRODID:-//www.gramonet.cz//GramonetCalLib 1.0//EN
CALSCALE:GREGORIAN
METHOD:PUBLISH
BEGIN:VEVENT
SUMMARY:Do rytmu! Do lesa! Do Vinař!
LOCATION:Staré hřiště ve Vinaře
DTSTART:20250614T000000
DTEND:20250615T000000
UID:2026-04-19-19-34-37@infocaslav.cz
DTSTAMP:20260419T173437
Description:
END:VEVENT
END:VCALENDAR
