BEGIN:VCALENDAR
VERSION:2.0
PRODID:-//www.gramonet.cz//GramonetCalLib 1.0//EN
CALSCALE:GREGORIAN
METHOD:PUBLISH
BEGIN:VEVENT
SUMMARY:Dobrodružství Asterixe a Obelixe
LOCATION:Dům dětí a mládeže Čáslav, Jeníkovská 222
DTSTART:20220216T000000
DTEND:20220217T000000
UID:2026-04-19-19-34-22@infocaslav.cz
DTSTAMP:20260419T173422
Description:
END:VEVENT
END:VCALENDAR
