BEGIN:VCALENDAR
VERSION:2.0
PRODID:-//www.gramonet.cz//GramonetCalLib 1.0//EN
CALSCALE:GREGORIAN
METHOD:PUBLISH
BEGIN:VEVENT
SUMMARY:Doc. RNDr. Jiří Gabriel, DrSc. – O houbách a lidech
LOCATION:Klub Gumárna Bar K. Pazderského 2045, 28601 Čáslav-Nové Měst
 o, Česko
DTSTART:20220313T000000
DTEND:20220314T000000
UID:2026-04-19-19-36-09@infocaslav.cz
DTSTAMP:20260419T173609
Description:
END:VEVENT
END:VCALENDAR
