BEGIN:VCALENDAR
VERSION:2.0
PRODID:-//www.gramonet.cz//GramonetCalLib 1.0//EN
CALSCALE:GREGORIAN
METHOD:PUBLISH
BEGIN:VEVENT
SUMMARY:Doctor Strange v mnohovesmíru šílenství
LOCATION:Kino Miloše Formana, Jeníkovská 138/25, 28601
DTSTART:20220513T000000
DTEND:20220514T000000
UID:2026-04-19-21-08-34@infocaslav.cz
DTSTAMP:20260419T190834
Description:
END:VEVENT
END:VCALENDAR
