BEGIN:VCALENDAR
VERSION:2.0
PRODID:-//www.gramonet.cz//GramonetCalLib 1.0//EN
CALSCALE:GREGORIAN
METHOD:PUBLISH
BEGIN:VEVENT
SUMMARY:Dokud nás milenky nerozdělí (Éric Assous)
LOCATION:Dusíkovo divadlo Čáslav
DTSTART:20250414T000000
DTEND:20250415T000000
UID:2026-04-19-19-36-14@infocaslav.cz
DTSTAMP:20260419T173614
Description:
END:VEVENT
END:VCALENDAR
