BEGIN:VCALENDAR
VERSION:2.0
PRODID:-//www.gramonet.cz//GramonetCalLib 1.0//EN
CALSCALE:GREGORIAN
METHOD:PUBLISH
BEGIN:VEVENT
SUMMARY:Domáda – spanilá jízda
LOCATION:Zemědělské muzeum
DTSTART:20221015T000000
DTEND:20221016T000000
UID:2026-04-19-19-30-49@infocaslav.cz
DTSTAMP:20260419T173049
Description:
END:VEVENT
END:VCALENDAR
