BEGIN:VCALENDAR
VERSION:2.0
PRODID:-//www.gramonet.cz//GramonetCalLib 1.0//EN
CALSCALE:GREGORIAN
METHOD:PUBLISH
BEGIN:VEVENT
SUMMARY:Dominika Schreiner - vernisáž
LOCATION:Gumárna
DTSTART:20230512T000000
DTEND:20230513T000000
UID:2026-04-19-19-34-17@infocaslav.cz
DTSTAMP:20260419T173417
Description:
END:VEVENT
END:VCALENDAR
