BEGIN:VCALENDAR
VERSION:2.0
PRODID:-//www.gramonet.cz//GramonetCalLib 1.0//EN
CALSCALE:GREGORIAN
METHOD:PUBLISH
BEGIN:VEVENT
SUMMARY:Doručovací služba čarodějky Kiki
LOCATION:Kino
DTSTART:20230225T000000
DTEND:20230226T000000
UID:2026-04-19-19-36-00@infocaslav.cz
DTSTAMP:20260419T173600
Description:
END:VEVENT
END:VCALENDAR
