BEGIN:VCALENDAR
VERSION:2.0
PRODID:-//www.gramonet.cz//GramonetCalLib 1.0//EN
CALSCALE:GREGORIAN
METHOD:PUBLISH
BEGIN:VEVENT
SUMMARY:Dožínky – pivní slavnosti
LOCATION:Zemědělské muzeum
DTSTART:20230819T000000
DTEND:20230820T000000
UID:2026-04-19-19-36-19@infocaslav.cz
DTSTAMP:20260419T173619
Description:
END:VEVENT
END:VCALENDAR
