BEGIN:VCALENDAR
VERSION:2.0
PRODID:-//www.gramonet.cz//GramonetCalLib 1.0//EN
CALSCALE:GREGORIAN
METHOD:PUBLISH
BEGIN:VEVENT
SUMMARY:Dožínky
LOCATION:Muzeum lidových staveb v Kouřimi
DTSTART:20230819T000000
DTEND:20230820T000000
UID:2026-04-19-21-01-19@infocaslav.cz
DTSTAMP:20260419T190119
Description:V sobotu 19. srpna 2023 od 10 do 18 hodin uvede Muzeum lidovýc
 h staveb v Kouřimi národopisný pořad Dožínky. Pořad připomene zvyk
 y významné slavnosti po ukončení žní známé již z předkřesťansk
 ých dob v podobě\, v jaké se konaly \nv 19. století. Návštěvníky 
 eká bohatý program určený všem věkovým kategoriím.\n\nVstupné: z
 ákladní 200 Kč\, snížené 90 Kč\, rodinné 490 Kč.
END:VEVENT
END:VCALENDAR
