BEGIN:VCALENDAR
VERSION:2.0
PRODID:-//www.gramonet.cz//GramonetCalLib 1.0//EN
CALSCALE:GREGORIAN
METHOD:PUBLISH
BEGIN:VEVENT
SUMMARY:Dračí princezna
LOCATION:Kino Miloše Formana, Jeníkovská 138/25
DTSTART:20220129T000000
DTEND:20220130T000000
UID:2026-04-19-19-30-47@infocaslav.cz
DTSTAMP:20260419T173047
Description:
END:VEVENT
END:VCALENDAR
