BEGIN:VCALENDAR
VERSION:2.0
PRODID:-//www.gramonet.cz//GramonetCalLib 1.0//EN
CALSCALE:GREGORIAN
METHOD:PUBLISH
BEGIN:VEVENT
SUMMARY:Dvorky Čáslav
LOCATION:Čáslav
DTSTART:20240913T000000
DTEND:20240916T000000
UID:2026-04-19-19-31-12@infocaslav.cz
DTSTAMP:20260419T173112
Description:
END:VEVENT
END:VCALENDAR
