BEGIN:VCALENDAR
VERSION:2.0
PRODID:-//www.gramonet.cz//GramonetCalLib 1.0//EN
CALSCALE:GREGORIAN
METHOD:PUBLISH
BEGIN:VEVENT
SUMMARY:Dvorky
LOCATION:zahrada Diakonie
DTSTART:20230901T000000
DTEND:20230904T000000
UID:2026-04-19-21-01-20@infocaslav.cz
DTSTAMP:20260419T190120
Description:
END:VEVENT
END:VCALENDAR
