BEGIN:VCALENDAR
VERSION:2.0
PRODID:-//www.gramonet.cz//GramonetCalLib 1.0//EN
CALSCALE:GREGORIAN
METHOD:PUBLISH
BEGIN:VEVENT
SUMMARY:Dýňobraní
LOCATION:zahradní centrum Hortis-Čáslav
DTSTART:20231007T000000
DTEND:20231008T000000
UID:2026-04-19-19-29-44@infocaslav.cz
DTSTAMP:20260419T172944
Description:
END:VEVENT
END:VCALENDAR
