BEGIN:VCALENDAR
VERSION:2.0
PRODID:-//www.gramonet.cz//GramonetCalLib 1.0//EN
CALSCALE:GREGORIAN
METHOD:PUBLISH
BEGIN:VEVENT
SUMMARY:Dýňobraní
LOCATION:Hortis
DTSTART:20221008T000000
DTEND:20221009T000000
UID:2026-04-19-19-29-23@infocaslav.cz
DTSTAMP:20260419T172923
Description:
END:VEVENT
END:VCALENDAR
