BEGIN:VCALENDAR
VERSION:2.0
PRODID:-//www.gramonet.cz//GramonetCalLib 1.0//EN
CALSCALE:GREGORIAN
METHOD:PUBLISH
BEGIN:VEVENT
SUMMARY:Edukační program OSVOBOZENÍ ČÁSLAVI
LOCATION:Městské muzeum
DTSTART:20250401T000000
DTEND:20250501T000000
UID:2026-04-19-19-34-18@infocaslav.cz
DTSTAMP:20260419T173418
Description:Nový edukativní program k 80. výročí ukončení 2. světov
 é války - OSVOBOZENÍ ČÁSLAVI
END:VEVENT
END:VCALENDAR
