BEGIN:VCALENDAR
VERSION:2.0
PRODID:-//www.gramonet.cz//GramonetCalLib 1.0//EN
CALSCALE:GREGORIAN
METHOD:PUBLISH
BEGIN:VEVENT
SUMMARY:Eliška ze Mlejna
LOCATION:Náměstí města Třemošnice
DTSTART:20240829T000000
DTEND:20240830T000000
UID:2026-04-19-19-32-54@infocaslav.cz
DTSTAMP:20260419T173254
Description:Městská knihovna pořádá pohádku na ukončení prázdnin.\
 nPohádka se bude hrát 29.8. 2024 od 17:30 hod.\nZa nepříznivého poča
 sí se představení přesune do kulturního domu.
END:VEVENT
END:VCALENDAR
