BEGIN:VCALENDAR
VERSION:2.0
PRODID:-//www.gramonet.cz//GramonetCalLib 1.0//EN
CALSCALE:GREGORIAN
METHOD:PUBLISH
BEGIN:VEVENT
SUMMARY:Elixír lásky
LOCATION:Dusíkovo divadlo Čáslav
DTSTART:20240929T000000
DTEND:20240930T000000
UID:2026-04-19-19-28-49@infocaslav.cz
DTSTAMP:20260419T172849
Description:
END:VEVENT
END:VCALENDAR
