BEGIN:VCALENDAR
VERSION:2.0
PRODID:-//www.gramonet.cz//GramonetCalLib 1.0//EN
CALSCALE:GREGORIAN
METHOD:PUBLISH
BEGIN:VEVENT
SUMMARY:Emil Hakl – autorské čtení a beseda
LOCATION:Gumárna
DTSTART:20220914T000000
DTEND:20220915T000000
UID:2026-04-19-19-35-51@infocaslav.cz
DTSTAMP:20260419T173551
Description:
END:VEVENT
END:VCALENDAR
