BEGIN:VCALENDAR
VERSION:2.0
PRODID:-//www.gramonet.cz//GramonetCalLib 1.0//EN
CALSCALE:GREGORIAN
METHOD:PUBLISH
BEGIN:VEVENT
SUMMARY:ENE BENE ERBENE - pohádka v divadle
LOCATION:Dusíkovo divadlo
DTSTART:20231126T000000
DTEND:20231127T000000
UID:2026-04-19-21-06-08@infocaslav.cz
DTSTAMP:20260419T190608
Description:
END:VEVENT
END:VCALENDAR
