BEGIN:VCALENDAR
VERSION:2.0
PRODID:-//www.gramonet.cz//GramonetCalLib 1.0//EN
CALSCALE:GREGORIAN
METHOD:PUBLISH
BEGIN:VEVENT
SUMMARY:Exotické ovoce
LOCATION:Klub Gumárna Bar K. Pazderského 2045, 28601 Čáslav-Nové Měst
 o, Česko
DTSTART:20220123T000000
DTEND:20220124T000000
UID:2026-04-19-19-29-34@infocaslav.cz
DTSTAMP:20260419T172934
Description:
END:VEVENT
END:VCALENDAR
