BEGIN:VCALENDAR
VERSION:2.0
PRODID:-//www.gramonet.cz//GramonetCalLib 1.0//EN
CALSCALE:GREGORIAN
METHOD:PUBLISH
BEGIN:VEVENT
SUMMARY:FANTASTICKÁ ZVÍŘATA: BRUMBÁLOVA TAJEMSTVÍ
LOCATION:Kino Miloše Formana, Jeníkovská 138/25, 28601
DTSTART:20220415T000000
DTEND:20220416T000000
UID:2026-04-19-19-36-44@infocaslav.cz
DTSTAMP:20260419T173644
Description:
END:VEVENT
END:VCALENDAR
