BEGIN:VCALENDAR
VERSION:2.0
PRODID:-//www.gramonet.cz//GramonetCalLib 1.0//EN
CALSCALE:GREGORIAN
METHOD:PUBLISH
BEGIN:VEVENT
SUMMARY:Farní ples
LOCATION:Grand Čáslav
DTSTART:20240120T000000
DTEND:20240121T000000
UID:2026-04-19-21-02-16@infocaslav.cz
DTSTAMP:20260419T190216
Description:
END:VEVENT
END:VCALENDAR
