BEGIN:VCALENDAR
VERSION:2.0
PRODID:-//www.gramonet.cz//GramonetCalLib 1.0//EN
CALSCALE:GREGORIAN
METHOD:PUBLISH
BEGIN:VEVENT
SUMMARY:Férová snídaně
LOCATION:zahrada Diakonie
DTSTART:20230513T000000
DTEND:20230514T000000
UID:2026-04-19-19-30-56@infocaslav.cz
DTSTAMP:20260419T173056
Description:
END:VEVENT
END:VCALENDAR
