BEGIN:VCALENDAR
VERSION:2.0
PRODID:-//www.gramonet.cz//GramonetCalLib 1.0//EN
CALSCALE:GREGORIAN
METHOD:PUBLISH
BEGIN:VEVENT
SUMMARY:Festival dechových hudeb 7. ročník
LOCATION:Dusíkovo divadlo Čáslav
DTSTART:20241020T000000
DTEND:20241021T000000
UID:2026-04-19-19-33-50@infocaslav.cz
DTSTAMP:20260419T173350
Description:7. ročník Festivalu Dechových Hudeb proběhne 20. 10. 2024 o
 d 16:00 hod v Dusíkově divadle Čáslav. Vystoupí muzikanti Ladislav Pr
 udíka\, Pepino Matura & akordeon a Věnovanka.
END:VEVENT
END:VCALENDAR
