BEGIN:VCALENDAR
VERSION:2.0
PRODID:-//www.gramonet.cz//GramonetCalLib 1.0//EN
CALSCALE:GREGORIAN
METHOD:PUBLISH
BEGIN:VEVENT
SUMMARY:Festival dechových hudeb 8. ročník
LOCATION:Dusíkovo divadlo Čáslav
DTSTART:20251026T000000
DTEND:20251027T000000
UID:2026-04-19-20-58-38@infocaslav.cz
DTSTAMP:20260419T185838
Description:
END:VEVENT
END:VCALENDAR
