BEGIN:VCALENDAR
VERSION:2.0
PRODID:-//www.gramonet.cz//GramonetCalLib 1.0//EN
CALSCALE:GREGORIAN
METHOD:PUBLISH
BEGIN:VEVENT
SUMMARY:Festival fantazie
LOCATION:Chotěboř
DTSTART:20240628T000000
DTEND:20240708T000000
UID:2026-04-19-19-33-28@infocaslav.cz
DTSTAMP:20260419T173328
Description:29. ROČNÍK FESTIVALU POPKULTURY se koná od pátku 28.6. do n
 eděle 7.7.2024 v Tyršově ul.\, Chotěboř.\nDoslova fantastická dovole
 ná a zábava pro fanoušky\, hráče i celé rodiny.
END:VEVENT
END:VCALENDAR
