BEGIN:VCALENDAR
VERSION:2.0
PRODID:-//www.gramonet.cz//GramonetCalLib 1.0//EN
CALSCALE:GREGORIAN
METHOD:PUBLISH
BEGIN:VEVENT
SUMMARY:Festival Nejbrhůd
LOCATION:Ronov nad Doubravou
DTSTART:20240920T000000
DTEND:20240923T000000
UID:2026-04-19-19-31-59@infocaslav.cz
DTSTAMP:20260419T173159
Description:Program plný hudby\, ecstatického tance\, workshopů\, předn
 ášek a skvělého jídla
END:VEVENT
END:VCALENDAR
