BEGIN:VCALENDAR
VERSION:2.0
PRODID:-//www.gramonet.cz//GramonetCalLib 1.0//EN
CALSCALE:GREGORIAN
METHOD:PUBLISH
BEGIN:VEVENT
SUMMARY:Festival poctivé české čokolády
LOCATION:Kutná hora
DTSTART:20251024T000000
DTEND:20251027T000000
UID:2026-04-19-20-59-00@infocaslav.cz
DTSTAMP:20260419T185900
Description:
END:VEVENT
END:VCALENDAR
