BEGIN:VCALENDAR
VERSION:2.0
PRODID:-//www.gramonet.cz//GramonetCalLib 1.0//EN
CALSCALE:GREGORIAN
METHOD:PUBLISH
BEGIN:VEVENT
SUMMARY:Festival poctivé české čokolády
LOCATION:Kutná Hora
DTSTART:20241025T000000
DTEND:20241028T000000
UID:2026-04-19-19-34-42@infocaslav.cz
DTSTAMP:20260419T173442
Description:
END:VEVENT
END:VCALENDAR
