BEGIN:VCALENDAR
VERSION:2.0
PRODID:-//www.gramonet.cz//GramonetCalLib 1.0//EN
CALSCALE:GREGORIAN
METHOD:PUBLISH
BEGIN:VEVENT
SUMMARY:Festival zdravého životního stylu
LOCATION:Zahradnictví Kubelkovi Svinčany 29, Přelouč
DTSTART:20240921T000000
DTEND:20240922T000000
UID:2026-04-19-19-35-58@infocaslav.cz
DTSTAMP:20260419T173558
Description:Zahradnictví Kubelkovi Svinčany 29\, Přelouč pořádá dne 
 21. 9 2024 od 9:00 do 17:00 hod festival zdravého životního stylu\, vst
 upné 40 Kč a děti do 15 let zdarma.
END:VEVENT
END:VCALENDAR
