BEGIN:VCALENDAR
VERSION:2.0
PRODID:-//www.gramonet.cz//GramonetCalLib 1.0//EN
CALSCALE:GREGORIAN
METHOD:PUBLISH
BEGIN:VEVENT
SUMMARY:Folk na Lichnici 2024
LOCATION:Zřícenina hradu Lichnice
DTSTART:20240713T000000
DTEND:20240714T000000
UID:2026-04-19-19-33-48@infocaslav.cz
DTSTAMP:20260419T173348
Description:
END:VEVENT
END:VCALENDAR
