BEGIN:VCALENDAR
VERSION:2.0
PRODID:-//www.gramonet.cz//GramonetCalLib 1.0//EN
CALSCALE:GREGORIAN
METHOD:PUBLISH
BEGIN:VEVENT
SUMMARY:FORMANŮV FILMOVÝ FESTIVAL
LOCATION:
DTSTART:20220522T000000
DTEND:20220523T000000
UID:2026-04-19-19-36-51@infocaslav.cz
DTSTAMP:20260419T173651
Description:
END:VEVENT
END:VCALENDAR
