BEGIN:VCALENDAR
VERSION:2.0
PRODID:-//www.gramonet.cz//GramonetCalLib 1.0//EN
CALSCALE:GREGORIAN
METHOD:PUBLISH
BEGIN:VEVENT
SUMMARY:Fotbalový ples FK Čáslav 2025
LOCATION:Hotel Grand Čáslav
DTSTART:20250215T000000
DTEND:20250216T000000
UID:2026-04-19-19-36-24@infocaslav.cz
DTSTAMP:20260419T173624
Description:
END:VEVENT
END:VCALENDAR
